BEGIN:VCALENDAR
VERSION:2.0
PRODID:-//J. Addison School - nurturing tomorrow’s thinkers - ECPv6.15.20//NONSGML v1.0//EN
CALSCALE:GREGORIAN
METHOD:PUBLISH
X-WR-CALNAME:J. Addison School - nurturing tomorrow’s thinkers
X-ORIGINAL-URL:https://jaddisonschool.com
X-WR-CALDESC:Events for J. Addison School - nurturing tomorrow’s thinkers
REFRESH-INTERVAL;VALUE=DURATION:PT1H
X-Robots-Tag:noindex
X-PUBLISHED-TTL:PT1H
BEGIN:VTIMEZONE
TZID:America/Toronto
BEGIN:DAYLIGHT
TZOFFSETFROM:-0500
TZOFFSETTO:-0400
TZNAME:EDT
DTSTART:20250309T070000
END:DAYLIGHT
BEGIN:STANDARD
TZOFFSETFROM:-0400
TZOFFSETTO:-0500
TZNAME:EST
DTSTART:20251102T060000
END:STANDARD
BEGIN:DAYLIGHT
TZOFFSETFROM:-0500
TZOFFSETTO:-0400
TZNAME:EDT
DTSTART:20260308T070000
END:DAYLIGHT
BEGIN:STANDARD
TZOFFSETFROM:-0400
TZOFFSETTO:-0500
TZNAME:EST
DTSTART:20261101T060000
END:STANDARD
BEGIN:DAYLIGHT
TZOFFSETFROM:-0500
TZOFFSETTO:-0400
TZNAME:EDT
DTSTART:20270314T070000
END:DAYLIGHT
BEGIN:STANDARD
TZOFFSETFROM:-0400
TZOFFSETTO:-0500
TZNAME:EST
DTSTART:20271107T060000
END:STANDARD
END:VTIMEZONE
BEGIN:VEVENT
DTSTART;VALUE=DATE:20260518
DTEND;VALUE=DATE:20260519
DTSTAMP:20260420T052427
CREATED:20240619T152431Z
LAST-MODIFIED:20250616T205615Z
UID:28551-1779062400-1779148799@jaddisonschool.com
SUMMARY:Victoria Day
DESCRIPTION:Statutory Holiday. No class
URL:https://jaddisonschool.com/event/victoria-day/
LOCATION:J. Addison School\, 2 Valleywood Drive\, Markham\, Ontario\, L3R 8H3\, Canada
CATEGORIES:Elementary School,Secondary School
END:VEVENT
END:VCALENDAR