BEGIN:VCALENDAR
VERSION:2.0
PRODID:-//J. Addison School - nurturing tomorrow’s thinkers - ECPv6.15.20//NONSGML v1.0//EN
CALSCALE:GREGORIAN
METHOD:PUBLISH
X-WR-CALNAME:J. Addison School - nurturing tomorrow’s thinkers
X-ORIGINAL-URL:https://jaddisonschool.com
X-WR-CALDESC:Events for J. Addison School - nurturing tomorrow’s thinkers
REFRESH-INTERVAL;VALUE=DURATION:PT1H
X-Robots-Tag:noindex
X-PUBLISHED-TTL:PT1H
BEGIN:VTIMEZONE
TZID:America/Toronto
BEGIN:DAYLIGHT
TZOFFSETFROM:-0500
TZOFFSETTO:-0400
TZNAME:EDT
DTSTART:20240310T070000
END:DAYLIGHT
BEGIN:STANDARD
TZOFFSETFROM:-0400
TZOFFSETTO:-0500
TZNAME:EST
DTSTART:20241103T060000
END:STANDARD
BEGIN:DAYLIGHT
TZOFFSETFROM:-0500
TZOFFSETTO:-0400
TZNAME:EDT
DTSTART:20250309T070000
END:DAYLIGHT
BEGIN:STANDARD
TZOFFSETFROM:-0400
TZOFFSETTO:-0500
TZNAME:EST
DTSTART:20251102T060000
END:STANDARD
BEGIN:DAYLIGHT
TZOFFSETFROM:-0500
TZOFFSETTO:-0400
TZNAME:EDT
DTSTART:20260308T070000
END:DAYLIGHT
BEGIN:STANDARD
TZOFFSETFROM:-0400
TZOFFSETTO:-0500
TZNAME:EST
DTSTART:20261101T060000
END:STANDARD
END:VTIMEZONE
BEGIN:VEVENT
DTSTART;VALUE=DATE:20250506
DTEND;VALUE=DATE:20250507
DTSTAMP:20260422T184208
CREATED:20250425T193756Z
LAST-MODIFIED:20250425T193756Z
UID:30126-1746489600-1746575999@jaddisonschool.com
SUMMARY:National Teacher Appreciation Day
DESCRIPTION:Today\, we celebrate National Teacher Appreciation Day by recognizing the incredible dedication\, passion\, and care our teachers bring to the classroom every day. Thank you for inspiring our students and helping them grow into tomorrow’s leaders.
URL:https://jaddisonschool.com/event/national-teacher-appreciation-day/
LOCATION:J. Addison School\, 2 Valleywood Drive\, Markham\, Ontario\, L3R 8H3\, Canada
CATEGORIES:Athletics,Elementary School,Secondary School,Summer Camp
END:VEVENT
BEGIN:VEVENT
DTSTART;VALUE=DATE:20250516
DTEND;VALUE=DATE:20250517
DTSTAMP:20260422T184208
CREATED:20250425T193632Z
LAST-MODIFIED:20250425T193903Z
UID:30124-1747353600-1747439999@jaddisonschool.com
SUMMARY:Course Selection Deadline
DESCRIPTION:Students are reminded that the deadline for course selection is TODAY! This important step ensures that schedules are personalized to meet academic goals and graduation requirements. Please connect with our guidance team if you need support during the selection process.
URL:https://jaddisonschool.com/event/course-selection-deadline/
LOCATION:J. Addison School\, 2 Valleywood Drive\, Markham\, Ontario\, L3R 8H3\, Canada
CATEGORIES:Secondary School
END:VEVENT
BEGIN:VEVENT
DTSTART;TZID=America/Toronto:20250522T140000
DTEND;TZID=America/Toronto:20250522T160000
DTSTAMP:20260422T184208
CREATED:20250425T194232Z
LAST-MODIFIED:20250425T194232Z
UID:30129-1747922400-1747929600@jaddisonschool.com
SUMMARY:Science Fair
DESCRIPTION:Our annual Science Fair celebrates curiosity\, creativity\, and innovation! Students from all grades showcase their experiments and discoveries\, demonstrating their passion for scientific exploration and hands-on learning. \nThis open event invites families and community members to join us in supporting our young scientists and exploring the wonders of science together.
URL:https://jaddisonschool.com/event/science-fair/
LOCATION:J. Addison School\, 2 Valleywood Drive\, Markham\, Ontario\, L3R 8H3\, Canada
CATEGORIES:Secondary School
END:VEVENT
END:VCALENDAR