BEGIN:VCALENDAR
VERSION:2.0
PRODID:-//J. Addison School - nurturing tomorrow’s thinkers - ECPv6.15.20//NONSGML v1.0//EN
CALSCALE:GREGORIAN
METHOD:PUBLISH
X-ORIGINAL-URL:https://jaddisonschool.com
X-WR-CALDESC:Events for J. Addison School - nurturing tomorrow’s thinkers
REFRESH-INTERVAL;VALUE=DURATION:PT1H
X-Robots-Tag:noindex
X-PUBLISHED-TTL:PT1H
BEGIN:VTIMEZONE
TZID:America/Toronto
BEGIN:DAYLIGHT
TZOFFSETFROM:-0500
TZOFFSETTO:-0400
TZNAME:EDT
DTSTART:20240310T070000
END:DAYLIGHT
BEGIN:STANDARD
TZOFFSETFROM:-0400
TZOFFSETTO:-0500
TZNAME:EST
DTSTART:20241103T060000
END:STANDARD
BEGIN:DAYLIGHT
TZOFFSETFROM:-0500
TZOFFSETTO:-0400
TZNAME:EDT
DTSTART:20250309T070000
END:DAYLIGHT
BEGIN:STANDARD
TZOFFSETFROM:-0400
TZOFFSETTO:-0500
TZNAME:EST
DTSTART:20251102T060000
END:STANDARD
BEGIN:DAYLIGHT
TZOFFSETFROM:-0500
TZOFFSETTO:-0400
TZNAME:EDT
DTSTART:20260308T070000
END:DAYLIGHT
BEGIN:STANDARD
TZOFFSETFROM:-0400
TZOFFSETTO:-0500
TZNAME:EST
DTSTART:20261101T060000
END:STANDARD
END:VTIMEZONE
BEGIN:VEVENT
DTSTART;TZID=America/Toronto:20250628T110000
DTEND;TZID=America/Toronto:20250628T130000
DTSTAMP:20260422T173429
CREATED:20250620T195856Z
LAST-MODIFIED:20250620T195856Z
UID:30423-1751108400-1751115600@jaddisonschool.com
SUMMARY:Elite Boys' Basketball Sr. ID Session
DESCRIPTION:Please note that parents are kindly asked not to attend the tryouts.\nBring your own ball and jersey with name or number on it.\n$10 trial fee\n\n\nRegister here: https://rebrand.ly/jasmbb25\n\nFor more information please contact:\ninfo@jaddisonschool.com / 905-477-4999
URL:https://jaddisonschool.com/event/elite-boys-basketball-sr-id-session/
LOCATION:J. Addison School\, 2 Valleywood Drive\, Markham\, Ontario\, L3R 8H3\, Canada
CATEGORIES:Secondary School
ORGANIZER;CN="Elite Basketball Program":MAILTO:info@jaddisonschool.com
END:VEVENT
BEGIN:VEVENT
DTSTART;VALUE=DATE:20250630
DTEND;VALUE=DATE:20250701
DTSTAMP:20260422T173429
CREATED:20250616T201021Z
LAST-MODIFIED:20250616T201021Z
UID:30355-1751241600-1751327999@jaddisonschool.com
SUMMARY:School Closed
DESCRIPTION:School will be closed
URL:https://jaddisonschool.com/event/school-closed/
LOCATION:J. Addison School\, 2 Valleywood Drive\, Markham\, Ontario\, L3R 8H3\, Canada
CATEGORIES:Elementary School,Secondary School
END:VEVENT
END:VCALENDAR