BEGIN:VCALENDAR
VERSION:2.0
PRODID:-//J. Addison School - nurturing tomorrow’s thinkers - ECPv6.15.20//NONSGML v1.0//EN
CALSCALE:GREGORIAN
METHOD:PUBLISH
X-WR-CALNAME:J. Addison School - nurturing tomorrow’s thinkers
X-ORIGINAL-URL:https://jaddisonschool.com
X-WR-CALDESC:Events for J. Addison School - nurturing tomorrow’s thinkers
REFRESH-INTERVAL;VALUE=DURATION:PT1H
X-Robots-Tag:noindex
X-PUBLISHED-TTL:PT1H
BEGIN:VTIMEZONE
TZID:America/Toronto
BEGIN:DAYLIGHT
TZOFFSETFROM:-0500
TZOFFSETTO:-0400
TZNAME:EDT
DTSTART:20240310T070000
END:DAYLIGHT
BEGIN:STANDARD
TZOFFSETFROM:-0400
TZOFFSETTO:-0500
TZNAME:EST
DTSTART:20241103T060000
END:STANDARD
BEGIN:DAYLIGHT
TZOFFSETFROM:-0500
TZOFFSETTO:-0400
TZNAME:EDT
DTSTART:20250309T070000
END:DAYLIGHT
BEGIN:STANDARD
TZOFFSETFROM:-0400
TZOFFSETTO:-0500
TZNAME:EST
DTSTART:20251102T060000
END:STANDARD
BEGIN:DAYLIGHT
TZOFFSETFROM:-0500
TZOFFSETTO:-0400
TZNAME:EDT
DTSTART:20260308T070000
END:DAYLIGHT
BEGIN:STANDARD
TZOFFSETFROM:-0400
TZOFFSETTO:-0500
TZNAME:EST
DTSTART:20261101T060000
END:STANDARD
END:VTIMEZONE
BEGIN:VEVENT
DTSTART;VALUE=DATE:20250804
DTEND;VALUE=DATE:20250805
DTSTAMP:20260422T144329
CREATED:20250616T201900Z
LAST-MODIFIED:20250616T201900Z
UID:30367-1754265600-1754351999@jaddisonschool.com
SUMMARY:Civic Holiday
DESCRIPTION:School will be closed
URL:https://jaddisonschool.com/event/civic-holiday-2/
LOCATION:J. Addison School\, 2 Valleywood Drive\, Markham\, Ontario\, L3R 8H3\, Canada
CATEGORIES:Elementary School,Secondary School,Summer Camp
END:VEVENT
BEGIN:VEVENT
DTSTART;TZID=America/Toronto:20250822T090000
DTEND;TZID=America/Toronto:20250822T160000
DTSTAMP:20260422T144329
CREATED:20250616T201945Z
LAST-MODIFIED:20250616T201945Z
UID:30369-1755853200-1755878400@jaddisonschool.com
SUMMARY:2025 Summer High School Credit Course
DESCRIPTION:Last Day of Summer School Session II
URL:https://jaddisonschool.com/event/2025-summer-high-school-credit-course-4/
LOCATION:J. Addison School\, 2 Valleywood Drive\, Markham\, Ontario\, L3R 8H3\, Canada
CATEGORIES:Secondary School,Summer Camp
ORGANIZER;CN="High School":MAILTO:info@jaddisonschool.com
END:VEVENT
BEGIN:VEVENT
DTSTART;TZID=America/Toronto:20250829T110000
DTEND;TZID=America/Toronto:20250831T220000
DTSTAMP:20260422T144329
CREATED:20250616T211641Z
LAST-MODIFIED:20250616T211844Z
UID:30405-1756465200-1756677600@jaddisonschool.com
SUMMARY:Move in New Dormitory Residents
DESCRIPTION:Dormitory move-in available for new students from 11:00 am to 10:00 pm
URL:https://jaddisonschool.com/event/move-in-new-dormitory-residents/
LOCATION:J. Addison School\, 2 Valleywood Drive\, Markham\, Ontario\, L3R 8H3\, Canada
CATEGORIES:Elementary School,Secondary School
END:VEVENT
END:VCALENDAR