BEGIN:VCALENDAR
VERSION:2.0
PRODID:-//J. Addison School - nurturing tomorrow’s thinkers - ECPv6.15.20//NONSGML v1.0//EN
CALSCALE:GREGORIAN
METHOD:PUBLISH
X-WR-CALNAME:J. Addison School - nurturing tomorrow’s thinkers
X-ORIGINAL-URL:https://jaddisonschool.com
X-WR-CALDESC:Events for J. Addison School - nurturing tomorrow’s thinkers
REFRESH-INTERVAL;VALUE=DURATION:PT1H
X-Robots-Tag:noindex
X-PUBLISHED-TTL:PT1H
BEGIN:VTIMEZONE
TZID:America/Toronto
BEGIN:DAYLIGHT
TZOFFSETFROM:-0500
TZOFFSETTO:-0400
TZNAME:EDT
DTSTART:20240310T070000
END:DAYLIGHT
BEGIN:STANDARD
TZOFFSETFROM:-0400
TZOFFSETTO:-0500
TZNAME:EST
DTSTART:20241103T060000
END:STANDARD
BEGIN:DAYLIGHT
TZOFFSETFROM:-0500
TZOFFSETTO:-0400
TZNAME:EDT
DTSTART:20250309T070000
END:DAYLIGHT
BEGIN:STANDARD
TZOFFSETFROM:-0400
TZOFFSETTO:-0500
TZNAME:EST
DTSTART:20251102T060000
END:STANDARD
BEGIN:DAYLIGHT
TZOFFSETFROM:-0500
TZOFFSETTO:-0400
TZNAME:EDT
DTSTART:20260308T070000
END:DAYLIGHT
BEGIN:STANDARD
TZOFFSETFROM:-0400
TZOFFSETTO:-0500
TZNAME:EST
DTSTART:20261101T060000
END:STANDARD
END:VTIMEZONE
BEGIN:VEVENT
DTSTART;VALUE=DATE:20250901
DTEND;VALUE=DATE:20250902
DTSTAMP:20260422T115448
CREATED:20250616T202804Z
LAST-MODIFIED:20250616T202804Z
UID:30384-1756684800-1756771199@jaddisonschool.com
SUMMARY:Labour Day
DESCRIPTION:School will be closed
URL:https://jaddisonschool.com/event/labour-day-2/
LOCATION:J. Addison School\, 2 Valleywood Drive\, Markham\, Ontario\, L3R 8H3\, Canada
CATEGORIES:Elementary School,Secondary School
END:VEVENT
BEGIN:VEVENT
DTSTART;TZID=America/Toronto:20250901T160000
DTEND;TZID=America/Toronto:20250903T220000
DTSTAMP:20260422T115448
CREATED:20240619T173847Z
LAST-MODIFIED:20250616T211814Z
UID:28594-1756742400-1756936800@jaddisonschool.com
SUMMARY:Move in All Returning Dormitory Residents
DESCRIPTION:All returning residents (4pm-10pm)
URL:https://jaddisonschool.com/event/move-in-returning-dormitory-residents/
LOCATION:J. Addison School\, 2 Valleywood Drive\, Markham\, Ontario\, L3R 8H3\, Canada
CATEGORIES:Elementary School,Secondary School
END:VEVENT
BEGIN:VEVENT
DTSTART;VALUE=DATE:20250903
DTEND;VALUE=DATE:20250904
DTSTAMP:20260422T115448
CREATED:20240619T153406Z
LAST-MODIFIED:20250616T202710Z
UID:28565-1756857600-1756943999@jaddisonschool.com
SUMMARY:Orientation Day Secondary Program
DESCRIPTION:Welcome to J Addison School
URL:https://jaddisonschool.com/event/orientation-day/
LOCATION:J. Addison School\, 2 Valleywood Drive\, Markham\, Ontario\, L3R 8H3\, Canada
CATEGORIES:Secondary School
ORGANIZER;CN="High School":MAILTO:info@jaddisonschool.com
END:VEVENT
BEGIN:VEVENT
DTSTART;VALUE=DATE:20250904
DTEND;VALUE=DATE:20250905
DTSTAMP:20260422T115448
CREATED:20240619T153523Z
LAST-MODIFIED:20250616T202931Z
UID:28567-1756944000-1757030399@jaddisonschool.com
SUMMARY:First Day of School Secondary Program
DESCRIPTION:First Day of Academic School Semester I
URL:https://jaddisonschool.com/event/first-day-of-school-2/
LOCATION:J. Addison School\, 2 Valleywood Drive\, Markham\, Ontario\, L3R 8H3\, Canada
CATEGORIES:Secondary School
ORGANIZER;CN="High School":MAILTO:info@jaddisonschool.com
END:VEVENT
BEGIN:VEVENT
DTSTART;TZID=America/Toronto:20250904T190000
DTEND;TZID=America/Toronto:20250904T200000
DTSTAMP:20260422T115448
CREATED:20250616T212148Z
LAST-MODIFIED:20250616T212148Z
UID:30409-1757012400-1757016000@jaddisonschool.com
SUMMARY:Dormitory Orientation
DESCRIPTION:Orientation for Returning Dorm Students
URL:https://jaddisonschool.com/event/dormitory-orientation-2/
LOCATION:J. Addison School\, 2 Valleywood Drive\, Markham\, Ontario\, L3R 8H3\, Canada
CATEGORIES:Elementary School,Secondary School
END:VEVENT
BEGIN:VEVENT
DTSTART;VALUE=DATE:20250926
DTEND;VALUE=DATE:20250927
DTSTAMP:20260422T115448
CREATED:20250616T203603Z
LAST-MODIFIED:20250616T203603Z
UID:30386-1758844800-1758931199@jaddisonschool.com
SUMMARY:PA Day
DESCRIPTION:Professional Activity Day. No class
URL:https://jaddisonschool.com/event/pa-day-5/
LOCATION:J. Addison School\, 2 Valleywood Drive\, Markham\, Ontario\, L3R 8H3\, Canada
CATEGORIES:Elementary School,Secondary School
END:VEVENT
END:VCALENDAR