BEGIN:VCALENDAR
VERSION:2.0
PRODID:-//J. Addison School - nurturing tomorrow’s thinkers - ECPv6.15.20//NONSGML v1.0//EN
CALSCALE:GREGORIAN
METHOD:PUBLISH
X-WR-CALNAME:J. Addison School - nurturing tomorrow’s thinkers
X-ORIGINAL-URL:https://jaddisonschool.com
X-WR-CALDESC:Events for J. Addison School - nurturing tomorrow’s thinkers
REFRESH-INTERVAL;VALUE=DURATION:PT1H
X-Robots-Tag:noindex
X-PUBLISHED-TTL:PT1H
BEGIN:VTIMEZONE
TZID:America/Toronto
BEGIN:DAYLIGHT
TZOFFSETFROM:-0500
TZOFFSETTO:-0400
TZNAME:EDT
DTSTART:20240310T070000
END:DAYLIGHT
BEGIN:STANDARD
TZOFFSETFROM:-0400
TZOFFSETTO:-0500
TZNAME:EST
DTSTART:20241103T060000
END:STANDARD
BEGIN:DAYLIGHT
TZOFFSETFROM:-0500
TZOFFSETTO:-0400
TZNAME:EDT
DTSTART:20250309T070000
END:DAYLIGHT
BEGIN:STANDARD
TZOFFSETFROM:-0400
TZOFFSETTO:-0500
TZNAME:EST
DTSTART:20251102T060000
END:STANDARD
BEGIN:DAYLIGHT
TZOFFSETFROM:-0500
TZOFFSETTO:-0400
TZNAME:EDT
DTSTART:20260308T070000
END:DAYLIGHT
BEGIN:STANDARD
TZOFFSETFROM:-0400
TZOFFSETTO:-0500
TZNAME:EST
DTSTART:20261101T060000
END:STANDARD
END:VTIMEZONE
BEGIN:VEVENT
DTSTART;TZID=America/Toronto:20250822T090000
DTEND;TZID=America/Toronto:20250822T160000
DTSTAMP:20260422T091824
CREATED:20250616T201945Z
LAST-MODIFIED:20250616T201945Z
UID:30369-1755853200-1755878400@jaddisonschool.com
SUMMARY:2025 Summer High School Credit Course
DESCRIPTION:Last Day of Summer School Session II
URL:https://jaddisonschool.com/event/2025-summer-high-school-credit-course-4/
LOCATION:J. Addison School\, 2 Valleywood Drive\, Markham\, Ontario\, L3R 8H3\, Canada
CATEGORIES:Secondary School,Summer Camp
ORGANIZER;CN="High School":MAILTO:info@jaddisonschool.com
END:VEVENT
BEGIN:VEVENT
DTSTART;TZID=America/Toronto:20250815T090000
DTEND;TZID=America/Toronto:20250815T160000
DTSTAMP:20260422T091824
CREATED:20250616T202514Z
LAST-MODIFIED:20250616T202514Z
UID:30382-1755248400-1755273600@jaddisonschool.com
SUMMARY:STEM & SPORTS Day Camp C
DESCRIPTION:Last Day Camp C
URL:https://jaddisonschool.com/event/stem-sports-day-camp-c-2/
LOCATION:J. Addison School\, 2 Valleywood Drive\, Markham\, Ontario\, L3R 8H3\, Canada
CATEGORIES:Summer Camp
ORGANIZER;CN="Summer Programs":MAILTO:info@jaddisonschool.com
END:VEVENT
BEGIN:VEVENT
DTSTART;TZID=America/Toronto:20250805T090000
DTEND;TZID=America/Toronto:20250805T160000
DTSTAMP:20260422T091824
CREATED:20250616T202442Z
LAST-MODIFIED:20250616T202442Z
UID:30380-1754384400-1754409600@jaddisonschool.com
SUMMARY:STEM & SPORTS Day Camp C
DESCRIPTION:First Day Camp C
URL:https://jaddisonschool.com/event/stem-sports-day-camp-c/
LOCATION:J. Addison School\, 2 Valleywood Drive\, Markham\, Ontario\, L3R 8H3\, Canada
CATEGORIES:Summer Camp
ORGANIZER;CN="Summer Programs":MAILTO:info@jaddisonschool.com
END:VEVENT
BEGIN:VEVENT
DTSTART;VALUE=DATE:20250804
DTEND;VALUE=DATE:20250805
DTSTAMP:20260422T091824
CREATED:20250616T201900Z
LAST-MODIFIED:20250616T201900Z
UID:30367-1754265600-1754351999@jaddisonschool.com
SUMMARY:Civic Holiday
DESCRIPTION:School will be closed
URL:https://jaddisonschool.com/event/civic-holiday-2/
LOCATION:J. Addison School\, 2 Valleywood Drive\, Markham\, Ontario\, L3R 8H3\, Canada
CATEGORIES:Elementary School,Secondary School,Summer Camp
END:VEVENT
BEGIN:VEVENT
DTSTART;TZID=America/Toronto:20250801T090000
DTEND;TZID=America/Toronto:20250801T160000
DTSTAMP:20260422T091824
CREATED:20250616T202401Z
LAST-MODIFIED:20250616T202401Z
UID:30378-1754038800-1754064000@jaddisonschool.com
SUMMARY:STEM & SPORTS Day Camp B
DESCRIPTION:Last Day Camp B
URL:https://jaddisonschool.com/event/stem-sports-day-camp-b-2/
LOCATION:J. Addison School\, 2 Valleywood Drive\, Markham\, Ontario\, L3R 8H3\, Canada
CATEGORIES:Summer Camp
ORGANIZER;CN="Summer Programs":MAILTO:info@jaddisonschool.com
END:VEVENT
BEGIN:VEVENT
DTSTART;TZID=America/Toronto:20250728T090000
DTEND;TZID=America/Toronto:20250728T160000
DTSTAMP:20260422T091824
CREATED:20250616T201808Z
LAST-MODIFIED:20250616T201808Z
UID:30365-1753693200-1753718400@jaddisonschool.com
SUMMARY:2025 Summer High School Credit Course
DESCRIPTION:First Day of Summer School Session II
URL:https://jaddisonschool.com/event/2025-summer-high-school-credit-course-3/
LOCATION:J. Addison School\, 2 Valleywood Drive\, Markham\, Ontario\, L3R 8H3\, Canada
CATEGORIES:Secondary School,Summer Camp
ORGANIZER;CN="High School":MAILTO:info@jaddisonschool.com
END:VEVENT
BEGIN:VEVENT
DTSTART;TZID=America/Toronto:20250725T090000
DTEND;TZID=America/Toronto:20250725T160000
DTSTAMP:20260422T091824
CREATED:20250616T201724Z
LAST-MODIFIED:20250616T201724Z
UID:30363-1753434000-1753459200@jaddisonschool.com
SUMMARY:2025 Summer High School Credit Course
DESCRIPTION:Last Day of Summer School Session I
URL:https://jaddisonschool.com/event/2025-summer-high-school-credit-course-2/
LOCATION:J. Addison School\, 2 Valleywood Drive\, Markham\, Ontario\, L3R 8H3\, Canada
CATEGORIES:Secondary School,Summer Camp
ORGANIZER;CN="High School":MAILTO:info@jaddisonschool.com
END:VEVENT
BEGIN:VEVENT
DTSTART;TZID=America/Toronto:20250721T090000
DTEND;TZID=America/Toronto:20250721T160000
DTSTAMP:20260422T091824
CREATED:20250616T202320Z
LAST-MODIFIED:20250616T202320Z
UID:30376-1753088400-1753113600@jaddisonschool.com
SUMMARY:STEM & SPORTS Day Camp B
DESCRIPTION:First Day Camp B
URL:https://jaddisonschool.com/event/stem-sports-day-camp-b/
LOCATION:J. Addison School\, 2 Valleywood Drive\, Markham\, Ontario\, L3R 8H3\, Canada
CATEGORIES:Summer Camp
ORGANIZER;CN="Summer Programs":MAILTO:info@jaddisonschool.com
END:VEVENT
BEGIN:VEVENT
DTSTART;TZID=America/Toronto:20250718T090000
DTEND;TZID=America/Toronto:20250718T160000
DTSTAMP:20260422T091824
CREATED:20250616T202235Z
LAST-MODIFIED:20250616T202235Z
UID:30374-1752829200-1752854400@jaddisonschool.com
SUMMARY:STEM & SPORTS Day Camp A
DESCRIPTION:Last Day Camp A
URL:https://jaddisonschool.com/event/stem-sports-day-camp-a-2/
LOCATION:J. Addison School\, 2 Valleywood Drive\, Markham\, Ontario\, L3R 8H3\, Canada
CATEGORIES:Summer Camp
ORGANIZER;CN="Summer Programs":MAILTO:info@jaddisonschool.com
END:VEVENT
BEGIN:VEVENT
DTSTART;TZID=America/Toronto:20250707T090000
DTEND;TZID=America/Toronto:20250707T160000
DTSTAMP:20260422T091824
CREATED:20250616T202154Z
LAST-MODIFIED:20250616T202154Z
UID:30371-1751878800-1751904000@jaddisonschool.com
SUMMARY:STEM & SPORTS Day Camp A
DESCRIPTION:First Day Camp A
URL:https://jaddisonschool.com/event/stem-sports-day-camp-a/
LOCATION:J. Addison School\, 2 Valleywood Drive\, Markham\, Ontario\, L3R 8H3\, Canada
CATEGORIES:Summer Camp
ORGANIZER;CN="Summer Programs":MAILTO:info@jaddisonschool.com
END:VEVENT
BEGIN:VEVENT
DTSTART;TZID=America/Toronto:20250702T090000
DTEND;TZID=America/Toronto:20250702T160000
DTSTAMP:20260422T091824
CREATED:20250616T201216Z
LAST-MODIFIED:20250616T201626Z
UID:30357-1751446800-1751472000@jaddisonschool.com
SUMMARY:2025 Summer High School Credit Course
DESCRIPTION:First Day of Summer School Session I \n 
URL:https://jaddisonschool.com/event/2025-summer-high-school-credit-course/
LOCATION:J. Addison School\, 2 Valleywood Drive\, Markham\, Ontario\, L3R 8H3\, Canada
CATEGORIES:Secondary School,Summer Camp
ORGANIZER;CN="High School":MAILTO:info@jaddisonschool.com
END:VEVENT
BEGIN:VEVENT
DTSTART;VALUE=DATE:20250506
DTEND;VALUE=DATE:20250507
DTSTAMP:20260422T091824
CREATED:20250425T193756Z
LAST-MODIFIED:20250425T193756Z
UID:30126-1746489600-1746575999@jaddisonschool.com
SUMMARY:National Teacher Appreciation Day
DESCRIPTION:Today\, we celebrate National Teacher Appreciation Day by recognizing the incredible dedication\, passion\, and care our teachers bring to the classroom every day. Thank you for inspiring our students and helping them grow into tomorrow’s leaders.
URL:https://jaddisonschool.com/event/national-teacher-appreciation-day/
LOCATION:J. Addison School\, 2 Valleywood Drive\, Markham\, Ontario\, L3R 8H3\, Canada
CATEGORIES:Athletics,Elementary School,Secondary School,Summer Camp
END:VEVENT
END:VCALENDAR